BEGIN:VCALENDAR
VERSION:2.0
PRODID:-//94.9 The Wave - ECPv4.6.26//NONSGML v1.0//EN
CALSCALE:GREGORIAN
METHOD:PUBLISH
X-WR-CALNAME:94.9 The Wave
X-ORIGINAL-URL:https://949thewave.com
X-WR-CALDESC:Events for 94.9 The Wave
BEGIN:VEVENT
DTSTART;TZID=America/Halifax:20240323T080000
DTEND;TZID=America/Halifax:20240323T110000
DTSTAMP:20260423T002712
CREATED:20240228T163609Z
LAST-MODIFIED:20240228T163609Z
UID:15323-1711180800-1711191600@949thewave.com
SUMMARY:Pancake & sasuage breakfast
DESCRIPTION:Eat In or Take Out!\n$7 a plate\nAdd eggs $9 a plate\nMarch 23rd\n8am-11am\nBrookshaven hall 1748 Alexandra St\, Prime brook \n
URL:https://949thewave.com/event/pancake-sasuage-breakfast-4/
END:VEVENT
END:VCALENDAR