BEGIN:VCALENDAR
VERSION:2.0
PRODID:-//94.9 The Wave - ECPv4.6.26//NONSGML v1.0//EN
CALSCALE:GREGORIAN
METHOD:PUBLISH
X-WR-CALNAME:94.9 The Wave
X-ORIGINAL-URL:https://949thewave.com
X-WR-CALDESC:Events for 94.9 The Wave
BEGIN:VEVENT
DTSTART;TZID=America/Halifax:20230401T083000
DTEND;TZID=America/Halifax:20230401T110000
DTSTAMP:20260421T021714
CREATED:20230320T175450Z
LAST-MODIFIED:20230320T175450Z
UID:13847-1680337800-1680346800@949thewave.com
SUMMARY:Pancake & sasuage breakfast
DESCRIPTION:April 1st\n830am-11am\nEat In or Take Out\nBrookshaven hall\n1748 Alexandra St\, Prime brook \n
URL:https://949thewave.com/event/pancake-sasuage-breakfast-2/
END:VEVENT
END:VCALENDAR