BEGIN:VCALENDAR
VERSION:2.0
PRODID:-//94.9 The Wave - ECPv4.6.26//NONSGML v1.0//EN
CALSCALE:GREGORIAN
METHOD:PUBLISH
X-WR-CALNAME:94.9 The Wave
X-ORIGINAL-URL:https://949thewave.com
X-WR-CALDESC:Events for 94.9 The Wave
BEGIN:VEVENT
DTSTART;TZID=America/Halifax:20170617T090000
DTEND;TZID=America/Halifax:20170617T120000
DTSTAMP:20260422T175810
CREATED:20170605T134754Z
LAST-MODIFIED:20170605T134754Z
UID:3311-1497690000-1497700800@949thewave.com
SUMMARY:Pancake and Sausage Breakfast
DESCRIPTION:Pancake and Sausage breakfast Immaculate Conception Bridgeport June 17t 2017 9am-noon Eat in or take out. $7.00 per plate for tickets call Eugene 842-2256 or Norma 849-5251 or pick up at Breezeway Convenience \n
URL:https://949thewave.com/event/pancake-and-sausage-breakfast-3/
END:VEVENT
END:VCALENDAR