BEGIN:VCALENDAR
VERSION:2.0
PRODID:-//94.9 The Wave - ECPv4.6.26//NONSGML v1.0//EN
CALSCALE:GREGORIAN
METHOD:PUBLISH
X-WR-CALNAME:94.9 The Wave
X-ORIGINAL-URL:https://949thewave.com
X-WR-CALDESC:Events for 94.9 The Wave
BEGIN:VEVENT
DTSTART;TZID=America/Halifax:20190411T140000
DTEND;TZID=America/Halifax:20190411T160000
DTSTAMP:20260421T161331
CREATED:20190319T192845Z
LAST-MODIFIED:20190319T192845Z
UID:6520-1554991200-1554998400@949thewave.com
SUMMARY:Ostomy Support Group Meeting
DESCRIPTION:The Cape Breton Ostomy Support Group will meet on Thursday\, April 11th\, 2019 from 2pm – 4pm at the South Bar Volunteer Fire Dept Fire hall\, South Bar. Guest speaker will be representative from Hollister Ostomy Supplies. This is a support group for those who have an ostomy or will be having an ostomy and their support. A light lunch will be server. For more information contact Stasia at 902-562-1367 \n
URL:https://949thewave.com/event/ostomy-support-group-meeting-2/
END:VEVENT
END:VCALENDAR