BEGIN:VCALENDAR
VERSION:2.0
PRODID:-//94.9 The Wave - ECPv4.6.26//NONSGML v1.0//EN
CALSCALE:GREGORIAN
METHOD:PUBLISH
X-WR-CALNAME:94.9 The Wave
X-ORIGINAL-URL:https://949thewave.com
X-WR-CALDESC:Events for 94.9 The Wave
BEGIN:VEVENT
DTSTART;TZID=America/Halifax:20181011T140000
DTEND;TZID=America/Halifax:20181011T160000
DTSTAMP:20260421T145407
CREATED:20181003T122901Z
LAST-MODIFIED:20181003T122901Z
UID:5298-1539266400-1539273600@949thewave.com
SUMMARY:Ostomy Society Meeting
DESCRIPTION:The Cape Breton Chapter of the Ostomy Canada Society will meet on Thursday Oct. 11th \,2018 from 2pm – 4pm at the South Bar Fire Hall\, South Bar This is a support group for ostomates and their support/caregivers. New ostomates are welcome. A light lunch will be served. For more information contact : Stasia Digou – 902-562-1367 \n
URL:https://949thewave.com/event/ostomy-society-meeting-3/
END:VEVENT
END:VCALENDAR