BEGIN:VCALENDAR
VERSION:2.0
PRODID:-//94.9 The Wave - ECPv4.6.26//NONSGML v1.0//EN
CALSCALE:GREGORIAN
METHOD:PUBLISH
X-WR-CALNAME:94.9 The Wave
X-ORIGINAL-URL:https://949thewave.com
X-WR-CALDESC:Events for 94.9 The Wave
BEGIN:VEVENT
DTSTART;VALUE=DATE:20231111
DTEND;VALUE=DATE:20231112
DTSTAMP:20260425T165107
CREATED:20231106T162827Z
LAST-MODIFIED:20231106T162827Z
UID:14820-1699660800-1699747199@949thewave.com
SUMMARY:NWDCC Public Skating
DESCRIPTION:New Waterford and District Community Centre\nSaturday\, Nov. 11 – 3:30 p.m. \n
URL:https://949thewave.com/event/nwdcc-public-skating/
END:VEVENT
END:VCALENDAR