BEGIN:VCALENDAR
VERSION:2.0
PRODID:-//94.9 The Wave - ECPv4.6.26//NONSGML v1.0//EN
CALSCALE:GREGORIAN
METHOD:PUBLISH
X-WR-CALNAME:94.9 The Wave
X-ORIGINAL-URL:https://949thewave.com
X-WR-CALDESC:Events for 94.9 The Wave
BEGIN:VEVENT
DTSTART;VALUE=DATE:20231125
DTEND;VALUE=DATE:20231126
DTSTAMP:20260420T223102
CREATED:20231106T163319Z
LAST-MODIFIED:20231106T163319Z
UID:14832-1700870400-1700956799@949thewave.com
SUMMARY:NWDCC Public Skating
DESCRIPTION:New Waterford and District Community Centre\nSaturday\, Nov. 25 – 3:30 p.m. \n
URL:https://949thewave.com/event/nwdcc-public-skating-3/
END:VEVENT
END:VCALENDAR