BEGIN:VCALENDAR
VERSION:2.0
PRODID:-//94.9 The Wave - ECPv4.6.26//NONSGML v1.0//EN
CALSCALE:GREGORIAN
METHOD:PUBLISH
X-WR-CALNAME:94.9 The Wave
X-ORIGINAL-URL:https://949thewave.com
X-WR-CALDESC:Events for 94.9 The Wave
BEGIN:VEVENT
DTSTART;VALUE=DATE:20231115
DTEND;VALUE=DATE:20231116
DTSTAMP:20260425T124517
CREATED:20231106T162900Z
LAST-MODIFIED:20231106T162900Z
UID:14822-1700006400-1700092799@949thewave.com
SUMMARY:NWDCC Adult Skating
DESCRIPTION:New Waterford and District Community Centre\nWednesday\, Nov. 15 – 10 a.m. \n
URL:https://949thewave.com/event/nwdcc-adult-skating-2/
END:VEVENT
END:VCALENDAR