BEGIN:VCALENDAR
VERSION:2.0
PRODID:-//94.9 The Wave - ECPv4.6.26//NONSGML v1.0//EN
CALSCALE:GREGORIAN
METHOD:PUBLISH
X-WR-CALNAME:94.9 The Wave
X-ORIGINAL-URL:https://949thewave.com
X-WR-CALDESC:Events for 94.9 The Wave
BEGIN:VEVENT
DTSTART;TZID=America/Halifax:20170630T200000
DTEND;TZID=America/Halifax:20170630T220000
DTSTAMP:20260422T152025
CREATED:20170628T183501Z
LAST-MODIFIED:20170628T183501Z
UID:3529-1498852800-1498860000@949thewave.com
SUMMARY:Not One More Walk of Hope
DESCRIPTION:At 8 PM on Friday\, June 30th at the Centre 200 parking lot\, The Salvation Army Sydney Community Church will be hosting a Walk of Hope and Glow Stick Vigil to remember and celebrate the lives of Madison Wilson\, Juntin Newell and Vincent Nugent.  There will be refreshments following the walk at the Salvation Army on 55 Inglis Street.  Our community has been devastated by the recent news of the deaths of these three beautiful young lives and we are hurting with the families who have lost so much.  The residents of CBRM need to stand in solidarity to help restore hope\, dignity\, love and peace not only in our schools but in our homes and community. \nfor more information\, please call Sandra Gates 902-577-8345 or Nicole MacLean 902-562-5442 \n
URL:https://949thewave.com/event/not-one-more-walk-of-hope/
END:VEVENT
END:VCALENDAR