BEGIN:VCALENDAR
VERSION:2.0
PRODID:-//94.9 The Wave - ECPv4.6.26//NONSGML v1.0//EN
CALSCALE:GREGORIAN
METHOD:PUBLISH
X-WR-CALNAME:94.9 The Wave
X-ORIGINAL-URL:https://949thewave.com
X-WR-CALDESC:Events for 94.9 The Wave
BEGIN:VEVENT
DTSTART;TZID=America/Halifax:20161126T183000
DTEND;TZID=America/Halifax:20161126T203000
DTSTAMP:20260421T190710
CREATED:20161118T191854Z
LAST-MODIFIED:20161118T192336Z
UID:1829-1480185000-1480192200@949thewave.com
SUMMARY:North Sydney Santa Parade
DESCRIPTION:For more information\, visit www.cbrm.ns.ca/events or \nPhone 902-563-5510 \n
URL:https://949thewave.com/event/north-sydney-santa-parade/
CATEGORIES:Community
END:VEVENT
END:VCALENDAR