BEGIN:VCALENDAR
VERSION:2.0
PRODID:-//94.9 The Wave - ECPv4.6.26//NONSGML v1.0//EN
CALSCALE:GREGORIAN
METHOD:PUBLISH
X-WR-CALNAME:94.9 The Wave
X-ORIGINAL-URL:https://949thewave.com
X-WR-CALDESC:Events for 94.9 The Wave
BEGIN:VEVENT
DTSTART;TZID=America/Halifax:20220115T100000
DTEND;TZID=America/Halifax:20220115T113000
DTSTAMP:20260425T112344
CREATED:20220111T191241Z
LAST-MODIFIED:20220111T191241Z
UID:12375-1642240800-1642246200@949thewave.com
SUMMARY:Nordic Walking
DESCRIPTION:The location changes every week so if interested please email john_hudec@cbu.ca. \n
URL:https://949thewave.com/event/nordic-walking/2022-01-15/
CATEGORIES:Community Events
END:VEVENT
END:VCALENDAR