BEGIN:VCALENDAR
VERSION:2.0
PRODID:-//94.9 The Wave - ECPv4.6.26//NONSGML v1.0//EN
CALSCALE:GREGORIAN
METHOD:PUBLISH
X-WR-CALNAME:94.9 The Wave
X-ORIGINAL-URL:https://949thewave.com
X-WR-CALDESC:Events for 94.9 The Wave
BEGIN:VEVENT
DTSTART;TZID=America/Halifax:20230110T150000
DTEND;TZID=America/Halifax:20230110T160000
DTSTAMP:20260423T224224
CREATED:20221230T143306Z
LAST-MODIFIED:20221230T143306Z
UID:13453-1673362800-1673366400@949thewave.com
SUMMARY:New Year's Tea Social
DESCRIPTION:New Year’s Tea Social at the Glace Bay Library. January 10th from 3pm – 4pm.  Please call 902 849- 8657 to register. \n
URL:https://949thewave.com/event/new-years-tea-social/
END:VEVENT
END:VCALENDAR