BEGIN:VCALENDAR
VERSION:2.0
PRODID:-//94.9 The Wave - ECPv4.6.26//NONSGML v1.0//EN
CALSCALE:GREGORIAN
METHOD:PUBLISH
X-WR-CALNAME:94.9 The Wave
X-ORIGINAL-URL:https://949thewave.com
X-WR-CALDESC:Events for 94.9 The Wave
BEGIN:VEVENT
DTSTART;TZID=America/Halifax:20231231T210000
DTEND;TZID=America/Halifax:20240101T010000
DTSTAMP:20260421T175754
CREATED:20231130T192416Z
LAST-MODIFIED:20231130T192416Z
UID:14934-1704056400-1704070800@949thewave.com
SUMMARY:New Year's Eve at the Polish Village Hall
DESCRIPTION:New Year’s Eve at the Polish Village Hall. 9 p.m. to 1 a.m. DJ Robin Krszwda. Light meal. Tickets $15 per person. This is always a popular event in support of the St. Michael’s Polish Benefit Society. For tickets\, please call or text Nicole at 902-371-5088. \n
URL:https://949thewave.com/event/new-years-eve-at-the-polish-village-hall-2/
END:VEVENT
END:VCALENDAR