BEGIN:VCALENDAR
VERSION:2.0
PRODID:-//94.9 The Wave - ECPv4.6.26//NONSGML v1.0//EN
CALSCALE:GREGORIAN
METHOD:PUBLISH
X-WR-CALNAME:94.9 The Wave
X-ORIGINAL-URL:https://949thewave.com
X-WR-CALDESC:Events for 94.9 The Wave
BEGIN:VEVENT
DTSTART;TZID=America/Halifax:20220721T110000
DTEND;TZID=America/Halifax:20220721T170000
DTSTAMP:20260424T090935
CREATED:20220622T134418Z
LAST-MODIFIED:20220622T134418Z
UID:12754-1658401200-1658422800@949thewave.com
SUMMARY:New Waterford Coal Dust Days
DESCRIPTION:This years Coal Dust Days Festival will take place from July 17th to July 24th\, 2022\n\nThursday\, July 21st is Plummer Avenue Day from 11AM-5PM.\n\n​Our festival headquarters\, located in Colliery Lands Park is now open. You can also send us an email at dayscoaldust@gmail.com or message our Facebook page.\n
URL:https://949thewave.com/event/new-waterford-coal-dust-days/
END:VEVENT
END:VCALENDAR