BEGIN:VCALENDAR
VERSION:2.0
PRODID:-//94.9 The Wave - ECPv4.6.26//NONSGML v1.0//EN
CALSCALE:GREGORIAN
METHOD:PUBLISH
X-WR-CALNAME:94.9 The Wave
X-ORIGINAL-URL:https://949thewave.com
X-WR-CALDESC:Events for 94.9 The Wave
BEGIN:VEVENT
DTSTART;TZID=America/Halifax:20241124T110000
DTEND;TZID=America/Halifax:20241124T160000
DTSTAMP:20260424T032453
CREATED:20241107T144825Z
LAST-MODIFIED:20241107T144825Z
UID:16361-1732446000-1732464000@949thewave.com
SUMMARY:New-To-You Clothing Sale
DESCRIPTION:Spruce up your wardrobe while saving the planet!  Join us for the New-to-you clothing sale\, where you can snag stylish\, affordable finds and reduce textile waste!  All items under $5\, optional $2 donation at the door.  All proceeds in support of the Cape Breton Environmental Association’s Community Initiatives. \nSunday\, November 24th from 11am to 4pm at the Polish Village Hall (972 Victoria Road\, Sydney). \n
URL:https://949thewave.com/event/new-to-you-clothing-sale-2/
END:VEVENT
END:VCALENDAR