BEGIN:VCALENDAR
VERSION:2.0
PRODID:-//94.9 The Wave - ECPv4.6.26//NONSGML v1.0//EN
CALSCALE:GREGORIAN
METHOD:PUBLISH
X-WR-CALNAME:94.9 The Wave
X-ORIGINAL-URL:https://949thewave.com
X-WR-CALDESC:Events for 94.9 The Wave
BEGIN:VEVENT
DTSTART;VALUE=DATE:20231104
DTEND;VALUE=DATE:20231106
DTSTAMP:20260420T185335
CREATED:20231006T181505Z
LAST-MODIFIED:20231006T181505Z
UID:14634-1699056000-1699228799@949thewave.com
SUMMARY:Navigation Course
DESCRIPTION:Navigation Course: Sydney\, Nov. 4-5 \nA Navigation Maps & Compass course will be offered on November 4-5 in Sydney. Participants receive Outdoor Council of Canada national certification. Learn more at www.hikenovascotia.ca. \n
URL:https://949thewave.com/event/navigation-course-3/
END:VEVENT
END:VCALENDAR