BEGIN:VCALENDAR
VERSION:2.0
PRODID:-//94.9 The Wave - ECPv4.6.26//NONSGML v1.0//EN
CALSCALE:GREGORIAN
METHOD:PUBLISH
X-WR-CALNAME:94.9 The Wave
X-ORIGINAL-URL:https://949thewave.com
X-WR-CALDESC:Events for 94.9 The Wave
BEGIN:VEVENT
DTSTART;TZID=America/Halifax:20190426T143000
DTEND;TZID=America/Halifax:20190426T170000
DTSTAMP:20260422T204834
CREATED:20190402T163233Z
LAST-MODIFIED:20190402T163233Z
UID:6583-1556289000-1556298000@949thewave.com
SUMMARY:NAFR Semi-annual Meeting
DESCRIPTION:NATIONAL ASSOCIATION OF FEDERAL RETIREES (NAFR) SEMI-ANNUAL DINNER MEETING\n(Formerly FSNA) \nMEETING DATE: April 26\, 2019 \nLOCATION: Seniors and Pensioners Memorial Hall\, corner of Inglis St. and Prince St.\, Sydney\, NS \nTIME: 2:30 PM \nGUEST SPEAKER: Erika Shea\, Vice President of Development at New Dawn Enterprises Topic: Transformation of Holy Angels property \nDINNER MEETING REGISTRATION DEADLINE: April 16\, 2019 \nCONTACT PERSON: James Wheelhouse – 902-567-6156 \nDinner – Please mail $12.00 check or money order to: NAFR\, Cape Breton Branch\, PO Box 785\, Sydney\, NS\, B1P 6J1 \nAll retired members of the Public Service\, RCMP and Canadian Forces\, are welcome to attend\, as are qualified persons seeking membership in the National Association of Federal Retirees. For further information please contact the NAFR office at 902-539-4465 or 902-562-6541 \n
URL:https://949thewave.com/event/nafr-semi-annual-meeting/
END:VEVENT
END:VCALENDAR