BEGIN:VCALENDAR
VERSION:2.0
PRODID:-//94.9 The Wave - ECPv4.6.26//NONSGML v1.0//EN
CALSCALE:GREGORIAN
METHOD:PUBLISH
X-WR-CALNAME:94.9 The Wave
X-ORIGINAL-URL:https://949thewave.com
X-WR-CALDESC:Events for 94.9 The Wave
BEGIN:VEVENT
DTSTART;TZID=America/Halifax:20170513T090000
DTEND;TZID=America/Halifax:20170513T110000
DTSTAMP:20260420T185413
CREATED:20170420T134738Z
LAST-MODIFIED:20170420T134801Z
UID:2719-1494666000-1494673200@949thewave.com
SUMMARY:Mother's Day Breakfast
DESCRIPTION:Mother’s Day Breakfast \nSaturday\, May 13th\, 8 am to 11 am \nSt. Columba Church Hall – Marion Bridge \nAdults $9 & Children $4 \n2 eggs\, sausages\, homefries\, toast\, muffins\, tea & coffee \n
URL:https://949thewave.com/event/mothers-day-breakfast/
END:VEVENT
END:VCALENDAR