BEGIN:VCALENDAR
VERSION:2.0
PRODID:-//94.9 The Wave - ECPv4.6.26//NONSGML v1.0//EN
CALSCALE:GREGORIAN
METHOD:PUBLISH
X-WR-CALNAME:94.9 The Wave
X-ORIGINAL-URL:https://949thewave.com
X-WR-CALDESC:Events for 94.9 The Wave
BEGIN:VEVENT
DTSTART;TZID=America/Halifax:20170917T133000
DTEND;TZID=America/Halifax:20170917T150000
DTSTAMP:20260423T205949
CREATED:20170905T184148Z
LAST-MODIFIED:20170905T184148Z
UID:3785-1505655000-1505660400@949thewave.com
SUMMARY:Milling Frolic
DESCRIPTION:Milling Frolic in Howie Centre Sunday\, September 17 1:30 pm Howie Centre Fire Hall 47 Tometary Drive Howie Centre Admission $7 \n
URL:https://949thewave.com/event/milling-frolic/
END:VEVENT
END:VCALENDAR