BEGIN:VCALENDAR
VERSION:2.0
PRODID:-//94.9 The Wave - ECPv4.6.26//NONSGML v1.0//EN
CALSCALE:GREGORIAN
METHOD:PUBLISH
X-WR-CALNAME:94.9 The Wave
X-ORIGINAL-URL:https://949thewave.com
X-WR-CALDESC:Events for 94.9 The Wave
BEGIN:VEVENT
DTSTART;TZID=America/Halifax:20170518T180000
DTEND;TZID=America/Halifax:20170518T210000
DTSTAMP:20260422T172755
CREATED:20170509T141432Z
LAST-MODIFIED:20170509T141432Z
UID:3021-1495130400-1495141200@949thewave.com
SUMMARY:McConnell Library - Board Games Night
DESCRIPTION:Board Games Night @ the Library\nThursday May 18th\, 6:00-9:00 pm \n  \nCome and enjoy a variety of great board and card games. There are lots to choose from including Settlers of Catan\, Ticket to Ride\, Skip Bo\, classics like Balderdash\, Scrabble\, Clue\, Monopoly\, and more!  Drop in and bring your friends! If you have a favorite game you’d like to share\, bring it too!   \nEveryone welcome! \n
URL:https://949thewave.com/event/mcconnell-library-board-games-night/
END:VEVENT
END:VCALENDAR