BEGIN:VCALENDAR
VERSION:2.0
PRODID:-//94.9 The Wave - ECPv4.6.26//NONSGML v1.0//EN
CALSCALE:GREGORIAN
METHOD:PUBLISH
X-WR-CALNAME:94.9 The Wave
X-ORIGINAL-URL:https://949thewave.com
X-WR-CALDESC:Events for 94.9 The Wave
BEGIN:VEVENT
DTSTART;TZID=America/Halifax:20190123T190000
DTEND;TZID=America/Halifax:20190123T210000
DTSTAMP:20260422T151139
CREATED:20190116T184658Z
LAST-MODIFIED:20190116T184658Z
UID:6055-1548270000-1548277200@949thewave.com
SUMMARY:McConnell Library
DESCRIPTION:The Unama’ki Cape Breton Outdoor Network\nWed January 23\, 2019 7-9 pm\nMcConnell Library\, 50 Falmouth St\, Sydney \nFor our first Natural History Series talk of 2019\, Dr. Pat Maher\, Associate Professor of Community Studies and Outdoor Leadership at CBU\, will introduce us to the Unama’ki Cape Breton Outdoor Network (UCBON). \nUCBON is a network of outdoor leaders and organizations whose purpose is to support and enhance outdoor life across Unama’ki\, Cape Breton Island. In alignment with provincial and national networks\, they aim to promote outdoor leadership training\, education\, and mentorship; share resources; increase the number of outdoor events and activities across the island; increase engagement with and respect for nature; and promote diverse cultural outdoor traditions. \nEveryone welcome. \nPresented in partnership with the Cape Breton Naturalists’ Society. \n
URL:https://949thewave.com/event/mcconnell-library-13/
END:VEVENT
END:VCALENDAR