BEGIN:VCALENDAR
VERSION:2.0
PRODID:-//94.9 The Wave - ECPv4.6.26//NONSGML v1.0//EN
CALSCALE:GREGORIAN
METHOD:PUBLISH
X-WR-CALNAME:94.9 The Wave
X-ORIGINAL-URL:https://949thewave.com
X-WR-CALDESC:Events for 94.9 The Wave
BEGIN:VEVENT
DTSTART;TZID=America/Halifax:20220723T130000
DTEND;TZID=America/Halifax:20220723T150000
DTSTAMP:20260424T061340
CREATED:20220719T123905Z
LAST-MODIFIED:20220719T123905Z
UID:12812-1658581200-1658588400@949thewave.com
SUMMARY:Marcia Fiolek Memorial Playground Kiddies Day
DESCRIPTION:Marcia Fiolek Memorial Community Playground\, Dominion \nSaturday\, July 23\, 2022 @ 1:00 p.m. to 3:00 p.m. \nGrand Opening of our New Accessible Section of the playground @ MARCIA FIOLEK MEMORIAL COMMUNITY PLAYGROUND DAY and TEDDY BEAR PICNIC at the Marcia Fiolek Playground. Enjoy the new accessible ‘glider sway swing’\, music\, potato sack races\, bounce house\, face painting\, and more. There will be lots of characters roaming around so make sure to snap a picture with them! The Dominion Volunteer Fire Department will have sprinklers there so bring your towel! There will also be a free BBQ with hotdogs and hamburgers. Donations are welcomed in support of refurbishing\, maintenance\, and new equipment. Our rain date will be July 24th. For more information\, contact Melinda at (902) 574-4226 or check out our Facebook page. \nSee you there\, don’t forget your teddy bear! \n
URL:https://949thewave.com/event/marcia-fiolek-memorial-playground-kiddies-day/
END:VEVENT
END:VCALENDAR