BEGIN:VCALENDAR
VERSION:2.0
PRODID:-//94.9 The Wave - ECPv4.6.26//NONSGML v1.0//EN
CALSCALE:GREGORIAN
METHOD:PUBLISH
X-WR-CALNAME:94.9 The Wave
X-ORIGINAL-URL:https://949thewave.com
X-WR-CALDESC:Events for 94.9 The Wave
BEGIN:VEVENT
DTSTART;TZID=America/Halifax:20190622T130000
DTEND;TZID=America/Halifax:20190622T150000
DTSTAMP:20260421T190636
CREATED:20190611T124459Z
LAST-MODIFIED:20190611T124459Z
UID:7211-1561208400-1561215600@949thewave.com
SUMMARY:March for Healthcare
DESCRIPTION:March for Healthcare \nDate: June 22\, 2019 \nTime: 1 PM – 3 PM \nGroup to gather outside the Joan Harriss Cruise Pavilion and march down the Esplanade to City hall where they will hear from several speakers\, followed by a flag raising & open community discussion.  Join Us!  Saturday\, June 22nd Starting at 1 PM. \nParking is permitted at the Pavilion and anyone unable to march is welcome to join us at city hall starting at 1:25 PM. \n  \n
URL:https://949thewave.com/event/march-for-healthcare/
END:VEVENT
END:VCALENDAR