BEGIN:VCALENDAR
VERSION:2.0
PRODID:-//94.9 The Wave - ECPv4.6.26//NONSGML v1.0//EN
CALSCALE:GREGORIAN
METHOD:PUBLISH
X-WR-CALNAME:94.9 The Wave
X-ORIGINAL-URL:https://949thewave.com
X-WR-CALDESC:Events for 94.9 The Wave
BEGIN:VEVENT
DTSTART;TZID=America/Halifax:20241016T180000
DTEND;TZID=America/Halifax:20241016T190000
DTSTAMP:20260420T191633
CREATED:20241008T122714Z
LAST-MODIFIED:20241008T122714Z
UID:16172-1729101600-1729105200@949thewave.com
SUMMARY:Make a Bookmark
DESCRIPTION:Glace Bay Library \nWed Oct 16th \n6 – 7 \nDrop in and make a bookmark or 2 – just in time to cozy up with a good book! \n  \n
URL:https://949thewave.com/event/make-a-bookmark/
END:VEVENT
END:VCALENDAR