BEGIN:VCALENDAR
VERSION:2.0
PRODID:-//94.9 The Wave - ECPv4.6.26//NONSGML v1.0//EN
CALSCALE:GREGORIAN
METHOD:PUBLISH
X-WR-CALNAME:94.9 The Wave
X-ORIGINAL-URL:https://949thewave.com
X-WR-CALDESC:Events for 94.9 The Wave
BEGIN:VEVENT
DTSTART;VALUE=DATE:20171019
DTEND;VALUE=DATE:20171020
DTSTAMP:20260420T191204
CREATED:20170912T154608Z
LAST-MODIFIED:20170912T154608Z
UID:3837-1508371200-1508457599@949thewave.com
SUMMARY:Lunch At Allen’s
DESCRIPTION:TheCAPE949 presents Lunch At Allen’s featuring Murray McLauchlan\, Cindy Church\, Marc Jordan and Ian Thomas on stage live at the Highland Arts Theatre Thursday Oct 19\, tickets on sale now\, call the HAT box office at 563-3637 \nhttp://www.shantero.com/LAApage.html \nhttp://www.highlandartstheatre.com/lunch-at-allens \n
URL:https://949thewave.com/event/lunch-at-allens/
ATTACH;FMTTYPE=image/png:https://949thewave.com/wp-content/uploads/sites/12/2017/09/LAA_CKPE.png
END:VEVENT
END:VCALENDAR