BEGIN:VCALENDAR
VERSION:2.0
PRODID:-//94.9 The Wave - ECPv4.6.26//NONSGML v1.0//EN
CALSCALE:GREGORIAN
METHOD:PUBLISH
X-WR-CALNAME:94.9 The Wave
X-ORIGINAL-URL:https://949thewave.com
X-WR-CALDESC:Events for 94.9 The Wave
BEGIN:VEVENT
DTSTART;TZID=America/Halifax:20161125T190000
DTEND;TZID=America/Halifax:20161125T210000
DTSTAMP:20260421T175024
CREATED:20161118T191824Z
LAST-MODIFIED:20161118T192409Z
UID:1827-1480100400-1480107600@949thewave.com
SUMMARY:Louisbourg Santa Parade and Light Up
DESCRIPTION:For more information\, visit www.cbrm.ns.ca/events or \nPhone 902-563-5510 \n
URL:https://949thewave.com/event/louisbourg-santa-parade-and-light-up/
CATEGORIES:Community
END:VEVENT
END:VCALENDAR