BEGIN:VCALENDAR
VERSION:2.0
PRODID:-//94.9 The Wave - ECPv4.6.26//NONSGML v1.0//EN
CALSCALE:GREGORIAN
METHOD:PUBLISH
X-WR-CALNAME:94.9 The Wave
X-ORIGINAL-URL:https://949thewave.com
X-WR-CALDESC:Events for 94.9 The Wave
BEGIN:VEVENT
DTSTART;TZID=America/Halifax:20170406T123000
DTEND;TZID=America/Halifax:20170406T140000
DTSTAMP:20260420T191931
CREATED:20170324T174611Z
LAST-MODIFIED:20170324T174611Z
UID:2309-1491481800-1491487200@949thewave.com
SUMMARY:Louisbourg-Ceilidh IODE Meeting
DESCRIPTION:The monthly meeting of Louisbourg-Ceilidh Chapter IODE will be held at 12 : 30pm on Thursday April 6\, in Shaw Room of Bethel Presbyterian Church hall\, Brookland St\, Sydney. New members & guests welcome \n
URL:https://949thewave.com/event/louisbourg-ceilidh-iode-meeting/
END:VEVENT
END:VCALENDAR