BEGIN:VCALENDAR
VERSION:2.0
PRODID:-//94.9 The Wave - ECPv4.6.26//NONSGML v1.0//EN
CALSCALE:GREGORIAN
METHOD:PUBLISH
X-WR-CALNAME:94.9 The Wave
X-ORIGINAL-URL:https://949thewave.com
X-WR-CALDESC:Events for 94.9 The Wave
BEGIN:VEVENT
DTSTART;TZID=America/Halifax:20170504T123000
DTEND;TZID=America/Halifax:20170504T140000
DTSTAMP:20260424T163823
CREATED:20170424T134422Z
LAST-MODIFIED:20170424T134422Z
UID:2799-1493901000-1493906400@949thewave.com
SUMMARY:Louisbourg-Ceilidh IODE Meeting
DESCRIPTION:Monthly meeting of Louisbourg-Ceilidh Chapter IODE will be held at 12 : 30pm on Thursday\, May 4th at the Shaw Room of Bethel Presbyterian Church hall\, Brookland St\, Sydney. New members & guests welcome. \n
URL:https://949thewave.com/event/louisbourg-ceilidh-iode-meeting-2/
END:VEVENT
END:VCALENDAR