BEGIN:VCALENDAR
VERSION:2.0
PRODID:-//94.9 The Wave - ECPv4.6.26//NONSGML v1.0//EN
CALSCALE:GREGORIAN
METHOD:PUBLISH
X-WR-CALNAME:94.9 The Wave
X-ORIGINAL-URL:https://949thewave.com
X-WR-CALDESC:Events for 94.9 The Wave
BEGIN:VEVENT
DTSTART;TZID=America/Halifax:20190418T180000
DTEND;TZID=America/Halifax:20190418T200000
DTSTAMP:20260423T024747
CREATED:20190403T175006Z
LAST-MODIFIED:20190403T193859Z
UID:6605-1555610400-1555617600@949thewave.com
SUMMARY:Loch Lomond Motor Cross Meeting
DESCRIPTION:Lock Lomond Motor Cross will be holding a meeting for participants and volunteers \nAt the Howie Center Fire Hall \nThurs April 18th from 6-8pm \nThere will be opportunity to find out more about the group\, ask question and volunteer opportunities. \n  \n
URL:https://949thewave.com/event/loch-lomond-motor-cross-meeting/
END:VEVENT
END:VCALENDAR