BEGIN:VCALENDAR
VERSION:2.0
PRODID:-//94.9 The Wave - ECPv4.6.26//NONSGML v1.0//EN
CALSCALE:GREGORIAN
METHOD:PUBLISH
X-WR-CALNAME:94.9 The Wave
X-ORIGINAL-URL:https://949thewave.com
X-WR-CALDESC:Events for 94.9 The Wave
BEGIN:VEVENT
DTSTART;TZID=America/Halifax:20190915T123000
DTEND;TZID=America/Halifax:20190915T173000
DTSTAMP:20260421T174901
CREATED:20190724T170049Z
LAST-MODIFIED:20190724T170049Z
UID:7456-1568550600-1568568600@949thewave.com
SUMMARY:Loch Lomond Motocross
DESCRIPTION:Loch Lomond Motocross \nLocated 10 minutes off Loch Lomond Road in Big Pond \n1230 PM – 530 PM \nAug 18th \nSept 15 \nOct 13 \n
URL:https://949thewave.com/event/loch-lomond-motocross-2/
END:VEVENT
END:VCALENDAR