BEGIN:VCALENDAR
VERSION:2.0
PRODID:-//94.9 The Wave - ECPv4.6.26//NONSGML v1.0//EN
CALSCALE:GREGORIAN
METHOD:PUBLISH
X-WR-CALNAME:94.9 The Wave
X-ORIGINAL-URL:https://949thewave.com
X-WR-CALDESC:Events for 94.9 The Wave
BEGIN:VEVENT
DTSTART;TZID=America/Halifax:20190622T160000
DTEND;TZID=America/Halifax:20190622T180000
DTSTAMP:20260422T163254
CREATED:20190611T124247Z
LAST-MODIFIED:20190611T124247Z
UID:7207-1561219200-1561226400@949thewave.com
SUMMARY:Lobster Supper
DESCRIPTION:Saturday\, June 22nd between 4:00 and 6:00 p.m. Mira Centre hosts its annual Lobster Supper (eat in or take out).  Cost is $20.00 for Lobster\, potato salad\, homemade dressing\, coleslaw\, dessert\, etc. You wont find a better deal anywhere and we have some of the best scenery in Cape Breton. We are located on the beautiful Mira River at the bridge in Marion Bridge \n  \n
URL:https://949thewave.com/event/lobster-supper-3/
END:VEVENT
END:VCALENDAR