BEGIN:VCALENDAR
VERSION:2.0
PRODID:-//94.9 The Wave - ECPv4.6.26//NONSGML v1.0//EN
CALSCALE:GREGORIAN
METHOD:PUBLISH
X-WR-CALNAME:94.9 The Wave
X-ORIGINAL-URL:https://949thewave.com
X-WR-CALDESC:Events for 94.9 The Wave
BEGIN:VEVENT
DTSTART;TZID=America/Halifax:20170816T133000
DTEND;TZID=America/Halifax:20170816T153000
DTSTAMP:20260420T171845
CREATED:20170803T190114Z
LAST-MODIFIED:20170803T190114Z
UID:3662-1502890200-1502897400@949thewave.com
SUMMARY:Living with Cancer Support Group
DESCRIPTION:Living With Cancer Support Group\, a support group for those who have had a diagnosis of cancer\, for their family\, caregivers will meet Wednesday\, Aug.16th\, 2017\, 1:30 pm – 3:30 pm at Royal Canadian Legion\, Branch 128 (Pier)\, Victoria Road.  \n
URL:https://949thewave.com/event/living-with-cancer-support-group-7/
END:VEVENT
END:VCALENDAR