BEGIN:VCALENDAR
VERSION:2.0
PRODID:-//94.9 The Wave - ECPv4.6.26//NONSGML v1.0//EN
CALSCALE:GREGORIAN
METHOD:PUBLISH
X-WR-CALNAME:94.9 The Wave
X-ORIGINAL-URL:https://949thewave.com
X-WR-CALDESC:Events for 94.9 The Wave
BEGIN:VEVENT
DTSTART;TZID=America/Halifax:20230215T130000
DTEND;TZID=America/Halifax:20230215T150000
DTSTAMP:20260422T163805
CREATED:20230208T132032Z
LAST-MODIFIED:20230208T132032Z
UID:13630-1676466000-1676473200@949thewave.com
SUMMARY:"Living With Cancer" support group
DESCRIPTION:A support group for those who have had a diagnosis of cancer and their support person – will meet on Thursday\, Feb. 15th 1pm-3pm at the Pier Legion\, Victoria Rd.\, Sydney with facilitator Michelle Wheelhouse\, CB Cancer Center Social Worker. For more information\, contact Courtney at the Cancer Center at 902-567-8551 \n
URL:https://949thewave.com/event/living-with-cancer-support-group-15/
END:VEVENT
END:VCALENDAR