BEGIN:VCALENDAR
VERSION:2.0
PRODID:-//94.9 The Wave - ECPv4.6.26//NONSGML v1.0//EN
CALSCALE:GREGORIAN
METHOD:PUBLISH
X-WR-CALNAME:94.9 The Wave
X-ORIGINAL-URL:https://949thewave.com
X-WR-CALDESC:Events for 94.9 The Wave
BEGIN:VEVENT
DTSTART;TZID=America/Halifax:20190717T133000
DTEND;TZID=America/Halifax:20190717T153000
DTSTAMP:20260424T135500
CREATED:20190705T183520Z
LAST-MODIFIED:20190705T183520Z
UID:7355-1563370200-1563377400@949thewave.com
SUMMARY:Living with Cancer Support Group
DESCRIPTION:Living With Cancer Support Group\, a support group for those who have had a diagnosis of cancer\, for their family\, caregivers will meet Wednesday\, July 17th\, 2019\, 1:30 pm – 3:30 pm at Royal Canadian Legion\, Branch 128 (Pier)\, Victoria Road. –\nFor more information contact Alicia at 902-567-8556 (at the Cancer Center) \n
URL:https://949thewave.com/event/living-with-cancer-support-group-13/
END:VEVENT
END:VCALENDAR