BEGIN:VCALENDAR
VERSION:2.0
PRODID:-//94.9 The Wave - ECPv4.6.26//NONSGML v1.0//EN
CALSCALE:GREGORIAN
METHOD:PUBLISH
X-WR-CALNAME:94.9 The Wave
X-ORIGINAL-URL:https://949thewave.com
X-WR-CALDESC:Events for 94.9 The Wave
BEGIN:VEVENT
DTSTART;TZID=America/Halifax:20170329T120000
DTEND;TZID=America/Halifax:20170329T130000
DTSTAMP:20260420T171926
CREATED:20170324T174716Z
LAST-MODIFIED:20170324T174716Z
UID:2311-1490788800-1490792400@949thewave.com
SUMMARY:Lenten Mid-Week Ecumenical Service
DESCRIPTION:Wednesday\, March 29th at St. John United Church\, Upper Break Water Street\, Port Morien\, NS at 12 PM \n
URL:https://949thewave.com/event/lenten-mid-week-ecumenical-service-3/
END:VEVENT
END:VCALENDAR