BEGIN:VCALENDAR
VERSION:2.0
PRODID:-//94.9 The Wave - ECPv4.6.26//NONSGML v1.0//EN
CALSCALE:GREGORIAN
METHOD:PUBLISH
X-WR-CALNAME:94.9 The Wave
X-ORIGINAL-URL:https://949thewave.com
X-WR-CALDESC:Events for 94.9 The Wave
BEGIN:VEVENT
DTSTART;TZID=America/Halifax:20170315T120000
DTEND;TZID=America/Halifax:20170315T130000
DTSTAMP:20260420T124045
CREATED:20170303T193202Z
LAST-MODIFIED:20170303T193202Z
UID:2178-1489579200-1489582800@949thewave.com
SUMMARY:Lenten Ecumenical Service
DESCRIPTION:Lenten Mid-Week Ecumenical Services.  Theme “7 Words from the Cross” on Wednesday\, March 15th\, Holy Cross Catholic Church\, 230 Seaview St\, Glace Bay at 12 PM. \n
URL:https://949thewave.com/event/lenten-ecumenical-service/
END:VEVENT
END:VCALENDAR