BEGIN:VCALENDAR
VERSION:2.0
PRODID:-//94.9 The Wave - ECPv4.6.26//NONSGML v1.0//EN
CALSCALE:GREGORIAN
METHOD:PUBLISH
X-WR-CALNAME:94.9 The Wave
X-ORIGINAL-URL:https://949thewave.com
X-WR-CALDESC:Events for 94.9 The Wave
BEGIN:VEVENT
DTSTART;TZID=America/Halifax:20230126T153000
DTEND;TZID=America/Halifax:20230126T163000
DTSTAMP:20260421T090830
CREATED:20221230T151757Z
LAST-MODIFIED:20221230T151810Z
UID:13471-1674747000-1674750600@949thewave.com
SUMMARY:Lego Club at Glace Bay Library
DESCRIPTION:Come and enjoy Lego Club at the Glace Bay Library.  Happening January 26th from 3:30pm-4:30pm. \nRegistration required.  Please call 902-849-8657. \n
URL:https://949thewave.com/event/lego-club-at-glace-bay-library-2/
END:VEVENT
END:VCALENDAR