BEGIN:VCALENDAR
VERSION:2.0
PRODID:-//94.9 The Wave - ECPv4.6.26//NONSGML v1.0//EN
CALSCALE:GREGORIAN
METHOD:PUBLISH
X-WR-CALNAME:94.9 The Wave
X-ORIGINAL-URL:https://949thewave.com
X-WR-CALDESC:Events for 94.9 The Wave
BEGIN:VEVENT
DTSTART;TZID=America/Halifax:20240229T153000
DTEND;TZID=America/Halifax:20240229T163000
DTSTAMP:20260422T163506
CREATED:20240201T185111Z
LAST-MODIFIED:20240201T185111Z
UID:15269-1709220600-1709224200@949thewave.com
SUMMARY:Lego Club
DESCRIPTION:Glace Bay Library \nThurs Feb 29 \n3:30 – 4:30 \nCalling all Master Builders! Lego Club is accepting new members. Join us for an hour of fun. \n
URL:https://949thewave.com/event/lego-club-16/
END:VEVENT
END:VCALENDAR