BEGIN:VCALENDAR
VERSION:2.0
PRODID:-//94.9 The Wave - ECPv4.6.26//NONSGML v1.0//EN
CALSCALE:GREGORIAN
METHOD:PUBLISH
X-WR-CALNAME:94.9 The Wave
X-ORIGINAL-URL:https://949thewave.com
X-WR-CALDESC:Events for 94.9 The Wave
BEGIN:VEVENT
DTSTART;TZID=America/Halifax:20250626T160000
DTEND;TZID=America/Halifax:20250626T180000
DTSTAMP:20260421T172518
CREATED:20250623T155317Z
LAST-MODIFIED:20250623T155317Z
UID:17247-1750953600-1750960800@949thewave.com
SUMMARY:Legion dinner
DESCRIPTION:Westside Legion Branch 126\n99 Midgeley drive Westmount\nRoast Chicken Dinner& carrot cake dessert.\nThursday June 26\,2025\n4 pm to 6pm\n$ 15.00\nEat in or Take Out\nAdvance sales call\nCLARA 902 539 2132\nALLAN 902 577 5653 \n
URL:https://949thewave.com/event/legion-dinner/
END:VEVENT
END:VCALENDAR