BEGIN:VCALENDAR
VERSION:2.0
PRODID:-//94.9 The Wave - ECPv4.6.26//NONSGML v1.0//EN
CALSCALE:GREGORIAN
METHOD:PUBLISH
X-WR-CALNAME:94.9 The Wave
X-ORIGINAL-URL:https://949thewave.com
X-WR-CALDESC:Events for 94.9 The Wave
BEGIN:VEVENT
DTSTART;TZID=America/Halifax:20170904T120000
DTEND;TZID=America/Halifax:20170904T140000
DTSTAMP:20260421T173946
CREATED:20170616T184933Z
LAST-MODIFIED:20170616T184933Z
UID:3416-1504526400-1504533600@949thewave.com
SUMMARY:Labour Day Picnic
DESCRIPTION:COME JOIN US ON MONDAY\, SEPTEMBER 4/17 ENJOY A FREE BARBECUE\, MAGIC SHOW\, FACE PAINTING\, BALLOON ANIMALS\, GAMES AND PRIZES!!! WHERE? OPEN HEARTH PARK (North Pond) WHEN? 12:00 -2 pm \n
URL:https://949thewave.com/event/labour-day-picnic/
END:VEVENT
END:VCALENDAR