BEGIN:VCALENDAR
VERSION:2.0
PRODID:-//94.9 The Wave - ECPv4.6.26//NONSGML v1.0//EN
CALSCALE:GREGORIAN
METHOD:PUBLISH
X-WR-CALNAME:94.9 The Wave
X-ORIGINAL-URL:https://949thewave.com
X-WR-CALDESC:Events for 94.9 The Wave
BEGIN:VEVENT
DTSTART;TZID=America/Halifax:20231117T133000
DTEND;TZID=America/Halifax:20231117T153000
DTSTAMP:20260421T210422
CREATED:20231106T161355Z
LAST-MODIFIED:20231106T161355Z
UID:14786-1700227800-1700235000@949thewave.com
SUMMARY:Knitting Club @ GBL
DESCRIPTION:Glace Bay Library \nFriday Nov 17 \n1:30 – 3:30 \npop in for some knitting\, tea\, and excellent society. Want to learn? we’d be happy to help you get started. Please email ewilliams@cbrl.ca or cmcinnis@cbrl.ca \n\n
URL:https://949thewave.com/event/knitting-club-gbl-2/
END:VEVENT
END:VCALENDAR