BEGIN:VCALENDAR
VERSION:2.0
PRODID:-//94.9 The Wave - ECPv4.6.26//NONSGML v1.0//EN
CALSCALE:GREGORIAN
METHOD:PUBLISH
X-WR-CALNAME:94.9 The Wave
X-ORIGINAL-URL:https://949thewave.com
X-WR-CALDESC:Events for 94.9 The Wave
BEGIN:VEVENT
DTSTART;TZID=America/Halifax:20260522T133000
DTEND;TZID=America/Halifax:20260522T153000
DTSTAMP:20260422T045616
CREATED:20260114T151550Z
LAST-MODIFIED:20260114T151550Z
UID:18255-1779456600-1779463800@949thewave.com
SUMMARY:Knitting Club
DESCRIPTION:Glace Bay Library \nEvery Friday 1:30-3:30 \n  \n
URL:https://949thewave.com/event/knitting-club-27/2026-05-22/
END:VEVENT
END:VCALENDAR