BEGIN:VCALENDAR
VERSION:2.0
PRODID:-//94.9 The Wave - ECPv4.6.26//NONSGML v1.0//EN
CALSCALE:GREGORIAN
METHOD:PUBLISH
X-WR-CALNAME:94.9 The Wave
X-ORIGINAL-URL:https://949thewave.com
X-WR-CALDESC:Events for 94.9 The Wave
BEGIN:VEVENT
DTSTART;TZID=America/Halifax:20241101T133000
DTEND;TZID=America/Halifax:20241101T153000
DTSTAMP:20260419T172740
CREATED:20241031T140053Z
LAST-MODIFIED:20241031T140053Z
UID:16303-1730467800-1730475000@949thewave.com
SUMMARY:Knitting Club
DESCRIPTION:Glace Bay Library \nEvery Friday 1:30 – 3:30pm \n  \n
URL:https://949thewave.com/event/knitting-club-21/
END:VEVENT
END:VCALENDAR