BEGIN:VCALENDAR
VERSION:2.0
PRODID:-//94.9 The Wave - ECPv4.6.26//NONSGML v1.0//EN
CALSCALE:GREGORIAN
METHOD:PUBLISH
X-WR-CALNAME:94.9 The Wave
X-ORIGINAL-URL:https://949thewave.com
X-WR-CALDESC:Events for 94.9 The Wave
BEGIN:VEVENT
DTSTART;TZID=America/Halifax:20240531T133000
DTEND;TZID=America/Halifax:20240531T153000
DTSTAMP:20260421T192242
CREATED:20240507T183828Z
LAST-MODIFIED:20240507T183828Z
UID:15537-1717162200-1717169400@949thewave.com
SUMMARY:Knitting Club
DESCRIPTION:Glace Bay Library \n1:30 – 3:30 \npop in for some knitting\, tea\, and excellent society. \n
URL:https://949thewave.com/event/knitting-club-18/2024-05-31/
END:VEVENT
END:VCALENDAR