BEGIN:VCALENDAR
VERSION:2.0
PRODID:-//94.9 The Wave - ECPv4.6.26//NONSGML v1.0//EN
CALSCALE:GREGORIAN
METHOD:PUBLISH
X-WR-CALNAME:94.9 The Wave
X-ORIGINAL-URL:https://949thewave.com
X-WR-CALDESC:Events for 94.9 The Wave
BEGIN:VEVENT
DTSTART;TZID=America/Halifax:20231215T133000
DTEND;TZID=America/Halifax:20231215T153000
DTSTAMP:20260425T140456
CREATED:20231214T185533Z
LAST-MODIFIED:20231214T185533Z
UID:14979-1702647000-1702654200@949thewave.com
SUMMARY:Knitting Club
DESCRIPTION:Glace Bay Library \nFriday Dec 15 \n1:30 – 3:30 \npop in for some knitting\, tea\, and excellent society. Want to learn? we’d be happy to help you get started. Please email ewilliams@cbrl.ca or cmcinnis@cbrl.ca \n\n
URL:https://949thewave.com/event/knitting-club-12/
END:VEVENT
END:VCALENDAR