BEGIN:VCALENDAR
VERSION:2.0
PRODID:-//94.9 The Wave - ECPv4.6.26//NONSGML v1.0//EN
CALSCALE:GREGORIAN
METHOD:PUBLISH
X-WR-CALNAME:94.9 The Wave
X-ORIGINAL-URL:https://949thewave.com
X-WR-CALDESC:Events for 94.9 The Wave
BEGIN:VEVENT
DTSTART;TZID=America/Halifax:20230920T180000
DTEND;TZID=America/Halifax:20230920T190000
DTSTAMP:20260419T174615
CREATED:20230906T154146Z
LAST-MODIFIED:20230906T154146Z
UID:14553-1695232800-1695236400@949thewave.com
SUMMARY:Kids on Canvas
DESCRIPTION:Glace Bay Library \nSept 20 \n6 – 7 \nJoin us for fun fall themed art. Register by calling 902-849-8657 or email: ewilliams@cbrl.ca or cmcinnis@cbrl.ca \n  \n
URL:https://949thewave.com/event/kids-on-canvas-5/
END:VEVENT
END:VCALENDAR