BEGIN:VCALENDAR
VERSION:2.0
PRODID:-//94.9 The Wave - ECPv4.6.26//NONSGML v1.0//EN
CALSCALE:GREGORIAN
METHOD:PUBLISH
X-WR-CALNAME:94.9 The Wave
X-ORIGINAL-URL:https://949thewave.com
X-WR-CALDESC:Events for 94.9 The Wave
BEGIN:VEVENT
DTSTART;VALUE=DATE:20241005
DTEND;VALUE=DATE:20241006
DTSTAMP:20260421T190539
CREATED:20240830T143940Z
LAST-MODIFIED:20240830T143940Z
UID:16044-1728086400-1728172799@949thewave.com
SUMMARY:Kicking PancreAS™ 5K
DESCRIPTION:7200 Canadians will have their life changed forever with a pancreatic cancer diagnosis. The average time from diagnosis to death is only 16-20 weeks. Register today for Kicking PancreAS™ 5K taking place on Saturday October 5th at 6:30pm at Lake Banook. Help Craig’s Cause Pancreatic Cancer Society “Change the Outcome” for those diagnosed\, by providing critical programs that increase survival and improve quality of life!. Register today online at craigscause.ca/kp or at the Running Room. \n
URL:https://949thewave.com/event/kicking-pancreas-5k/
END:VEVENT
END:VCALENDAR