BEGIN:VCALENDAR
VERSION:2.0
PRODID:-//94.9 The Wave - ECPv4.6.26//NONSGML v1.0//EN
CALSCALE:GREGORIAN
METHOD:PUBLISH
X-WR-CALNAME:94.9 The Wave
X-ORIGINAL-URL:https://949thewave.com
X-WR-CALDESC:Events for 94.9 The Wave
BEGIN:VEVENT
DTSTART;TZID=America/Halifax:20231202T200000
DTEND;TZID=America/Halifax:20231203T000000
DTSTAMP:20260425T140511
CREATED:20231130T192632Z
LAST-MODIFIED:20231130T192632Z
UID:14938-1701547200-1701561600@949thewave.com
SUMMARY:"Kick Off To Christmas" Dance
DESCRIPTION:Join us for our Kick Off to Christmas dance with DJ Jimmy MacKinnon and his 30 laser light show! Dance will be held at Branch 55\, Port Morien Legion on Saturday\, December 2nd from 8 p.m. to 12 a.m. $5.00 cover charge. Ages 19 and over. \n
URL:https://949thewave.com/event/kick-off-to-christmas-dance/
END:VEVENT
END:VCALENDAR