BEGIN:VCALENDAR
VERSION:2.0
PRODID:-//94.9 The Wave - ECPv4.6.26//NONSGML v1.0//EN
CALSCALE:GREGORIAN
METHOD:PUBLISH
X-WR-CALNAME:94.9 The Wave
X-ORIGINAL-URL:https://949thewave.com
X-WR-CALDESC:Events for 94.9 The Wave
BEGIN:VEVENT
DTSTART;VALUE=DATE:20221124
DTEND;VALUE=DATE:20221125
DTSTAMP:20260425T131624
CREATED:20221116T160410Z
LAST-MODIFIED:20221116T160422Z
UID:13343-1669248000-1669334399@949thewave.com
SUMMARY:Katharine McLennan: Life & Legacy
DESCRIPTION:Thursday\, Nov 24\nMcConnell Library (50 Falmouth St.\, Sydney)\n2:00-6:00 pm: Exhibition\n6:30 pm: Retro slideshow with refreshments \nHave you ever wondered what kinds of art\, documents\, and objects are housed in Cape Breton Regional Library’s Nova Scotia Collection? Now is your chance to find out! Visit the McConnell library to see some of the paintings\, honours\, and objects philanthropist Katharine McLennan donated to CBRL. \nKatharine McLennan led an incredible life: she volunteered as a nurse in WWI\, studied painting in Europe\, helped champion construction of the Fortress of Louisbourg\, and donated the land on which the McConnell Library stands.\n2-6pm: Drop in to view the exhibition.\n6:30pm: Retro slideshow of Katharine McLennan’s travel slides with refreshments.\nNo registration required. All welcome! \n
URL:https://949thewave.com/event/katharine-mclennan-life-legacy/
END:VEVENT
END:VCALENDAR