BEGIN:VCALENDAR
VERSION:2.0
PRODID:-//94.9 The Wave - ECPv4.6.26//NONSGML v1.0//EN
CALSCALE:GREGORIAN
METHOD:PUBLISH
X-WR-CALNAME:94.9 The Wave
X-ORIGINAL-URL:https://949thewave.com
X-WR-CALDESC:Events for 94.9 The Wave
BEGIN:VEVENT
DTSTART;VALUE=DATE:20210925
DTEND;VALUE=DATE:20210926
DTSTAMP:20260422T065602
CREATED:20210923T160628Z
LAST-MODIFIED:20210923T160638Z
UID:12003-1632528000-1632614399@949thewave.com
SUMMARY:Just Passing Through Cruise for Long Term Care Homes
DESCRIPTION:The “Just Passing Through” Cruise- By long term Care homes- Saturday\, September 25th! \nDust off your ride for the last cruise of the season\, and show your appreciation to the staff\, with over 100 custom cars and trucks cruising the streets of Cape Breton. So set up your lawn chair and enjoy the show.  The cruise will make its way through Sydney Mines\, North Sydney\, Sydney\, New Waterford\, Dominion\, and Glace Bay! \nJoin the Cape Breton Classic Cruisers\, Northside Boys\, The Cape Breton Mustang Club\, and the Cape Breton Antique and Custom Car Club this Saturday\, at the Emera Centre in North Sydney. Gas Pedals down at 10 am sharp!! \nSponsored by Colbourne Auto group.  \n
URL:https://949thewave.com/event/just-passing-through-cruise-for-long-term-care-homes/
CATEGORIES:Community Event
END:VEVENT
END:VCALENDAR